BEGIN:VCALENDAR
VERSION:2.0
PRODID:-//wp-events-plugin.com//7.2.3.1//EN
BEGIN:VEVENT
UID:100@halkivahanmetsastysyhdistys.fi
DTSTART;TZID=Europe/Helsinki:20250406T150000
DTEND;TZID=Europe/Helsinki:20250406T170000
DTSTAMP:20250322T080651Z
URL:https://halkivahanmetsastysyhdistys.fi/tapahtumat/talvikokous-3/
SUMMARY:Talvikokous
DESCRIPTION:Talvikokous Ilvesmajalla klo 15 alkaen.
CATEGORIES:Kokous
END:VEVENT
BEGIN:VEVENT
UID:101@halkivahanmetsastysyhdistys.fi
DTSTART;TZID=Europe/Helsinki:20250510T100000
DTEND;TZID=Europe/Helsinki:20250510T160000
DTSTAMP:20250407T185644Z
URL:https://halkivahanmetsastysyhdistys.fi/tapahtumat/talkoot-4/
SUMMARY:Talkoot
DESCRIPTION:Talkoot Ilvesmajalla klo 10 alkaen.
CATEGORIES:Talkoot
END:VEVENT
BEGIN:VEVENT
UID:102@halkivahanmetsastysyhdistys.fi
DTSTART;TZID=Europe/Helsinki:20250524T100000
DTEND;TZID=Europe/Helsinki:20250524T160000
DTSTAMP:20250407T185757Z
URL:https://halkivahanmetsastysyhdistys.fi/tapahtumat/talkoot-5/
SUMMARY:Talkoot
DESCRIPTION:Talkoot Ilvesmajalla klo 10 alkaen.
CATEGORIES:Talkoot
END:VEVENT
BEGIN:VEVENT
UID:106@halkivahanmetsastysyhdistys.fi
DTSTART;TZID=Europe/Helsinki:20250610T170000
DTEND;TZID=Europe/Helsinki:20250610T190000
DTSTAMP:20250601T191208Z
URL:https://halkivahanmetsastysyhdistys.fi/tapahtumat/harjoitusammunnat/
SUMMARY:Harjoitusammunnat
DESCRIPTION:Harjoitusammunnat Lehmussuon ampumaradalla klo 17 - 19
CATEGORIES:Ammunta
END:VEVENT
BEGIN:VEVENT
UID:107@halkivahanmetsastysyhdistys.fi
DTSTART;TZID=Europe/Helsinki:20250617T170000
DTEND;TZID=Europe/Helsinki:20250617T190000
DTSTAMP:20250601T191355Z
URL:https://halkivahanmetsastysyhdistys.fi/tapahtumat/harjoitusammunnat-2/
SUMMARY:Harjoitusammunnat
DESCRIPTION:Harjoitusammunnat Lehmussuon ampumaradalla klo 17 - 19
CATEGORIES:Ammunta
END:VEVENT
BEGIN:VEVENT
UID:110@halkivahanmetsastysyhdistys.fi
DTSTART;TZID=Europe/Helsinki:20250624T170000
DTEND;TZID=Europe/Helsinki:20250624T190000
DTSTAMP:20250601T191846Z
URL:https://halkivahanmetsastysyhdistys.fi/tapahtumat/harjoitusammunnat-5/
SUMMARY:Harjoitusammunnat
DESCRIPTION:Harjoitusammunnat Lehmussuon ampumaradalla klo 17 - 19
CATEGORIES:Ammunta
END:VEVENT
BEGIN:VEVENT
UID:111@halkivahanmetsastysyhdistys.fi
DTSTART;TZID=Europe/Helsinki:20250723T180000
DTEND;TZID=Europe/Helsinki:20250723T210000
DTSTAMP:20250704T172400Z
URL:https://halkivahanmetsastysyhdistys.fi/tapahtumat/talkoot-7/
SUMMARY:Talkoot
DESCRIPTION:Kesätanssien järjestelyiden yhteistalkoot klo 18 alkaen Ilves
 majalla. Pihan ja lahtivajan siivousta ja vpk:n teltan pystytys.
CATEGORIES:Talkoot
END:VEVENT
BEGIN:VEVENT
UID:112@halkivahanmetsastysyhdistys.fi
DTSTART;TZID=Europe/Helsinki:20250726T190000
DTEND;TZID=Europe/Helsinki:20250727T010000
DTSTAMP:20250704T193247Z
URL:https://halkivahanmetsastysyhdistys.fi/tapahtumat/halkivahan-kesatanss
 it/
SUMMARY:Halkivahan kesätanssit
DESCRIPTION:Tanssit Ilvesmajalla klo 19-01\, esiintymässä Tähtikartta.\n
 \nLiput 10 €\n\nKahvio ja grillimakkaraa\n\nJärjestäjinä Halkivahan k
 yläyhdistys\, Kylätalo\, metsästysyhdistys\, VPK ja Haka
CATEGORIES:Yleisötapahtuma
END:VEVENT
BEGIN:VEVENT
UID:103@halkivahanmetsastysyhdistys.fi
DTSTART;TZID=Europe/Helsinki:20250727T150000
DTEND;TZID=Europe/Helsinki:20250727T170000
DTSTAMP:20250407T190034Z
URL:https://halkivahanmetsastysyhdistys.fi/tapahtumat/kesakokous-3/
SUMMARY:Kesäkokous
DESCRIPTION:Kesäkokous Ilvesmajalla klo 15 alkaen. Käsitellään säänt
 öjen mukaiset kesäkokousasiat.\n\nHirvi- ja peurajahteihin ilmoittautumi
 nen tapahtuu kesäkokouksen yhteydessä.
CATEGORIES:Kokous
END:VEVENT
BEGIN:VEVENT
UID:108@halkivahanmetsastysyhdistys.fi
DTSTART;TZID=Europe/Helsinki:20250805T170000
DTEND;TZID=Europe/Helsinki:20250805T190000
DTSTAMP:20250601T191656Z
URL:https://halkivahanmetsastysyhdistys.fi/tapahtumat/harjoitusammunnat-3/
SUMMARY:Harjoitusammunnat
DESCRIPTION:Harjoitusammunnat Lehmussuon ampumaradalla klo 17 - 19
CATEGORIES:Ammunta
END:VEVENT
BEGIN:VEVENT
UID:109@halkivahanmetsastysyhdistys.fi
DTSTART;TZID=Europe/Helsinki:20250812T170000
DTEND;TZID=Europe/Helsinki:20250812T190000
DTSTAMP:20250601T191728Z
URL:https://halkivahanmetsastysyhdistys.fi/tapahtumat/harjoitusammunnat-4/
SUMMARY:Harjoitusammunnat
DESCRIPTION:Harjoitusammunnat Lehmussuon ampumaradalla klo 17 - 19
CATEGORIES:Ammunta
END:VEVENT
BEGIN:VEVENT
UID:113@halkivahanmetsastysyhdistys.fi
DTSTART;TZID=Europe/Helsinki:20250817T120000
DTEND;TZID=Europe/Helsinki:20250817T160000
DTSTAMP:20250718T171244Z
URL:https://halkivahanmetsastysyhdistys.fi/tapahtumat/ampumakilpailut-3/
SUMMARY:Ampumakilpailut
DESCRIPTION:Jäsentenvälinen ampumakilpailu Krääkkiön ampumaradalla 17.
 8. Klo 12 alkaen.\n\nAmmutaan vain kiväärillä 4+6\, 75 m.\n\nOsallistum
 ismaksu 10 €.
CATEGORIES:Ammunta
END:VEVENT
BEGIN:VEVENT
UID:118@halkivahanmetsastysyhdistys.fi
DTSTART;TZID=Europe/Helsinki:20250827T170000
DTEND;TZID=Europe/Helsinki:20250827T190000
DTSTAMP:20250813T092654Z
URL:https://halkivahanmetsastysyhdistys.fi/tapahtumat/harjoitusammunnat-6/
SUMMARY:Harjoitusammunnat
DESCRIPTION:Harjoitusammunnat Lehmussuon ampumaradalla klo 17 - 19
CATEGORIES:Ammunta
END:VEVENT
BEGIN:VEVENT
UID:104@halkivahanmetsastysyhdistys.fi
DTSTART;TZID=Europe/Helsinki:20250831T150000
DTEND;TZID=Europe/Helsinki:20250831T170000
DTSTAMP:20250727T200908Z
URL:https://halkivahanmetsastysyhdistys.fi/tapahtumat/peura-ja-hirvipalave
 ri-3/
SUMMARY:Peura- ja hirvipalaveri
DESCRIPTION:Peura- ja hirvipalaveri Ilvesmajalla klo 15 alkaen jahtiin osal
 listuville. Lupien ja papereiden tarkastus.
CATEGORIES:Kokous
END:VEVENT
BEGIN:VEVENT
UID:121@halkivahanmetsastysyhdistys.fi
DTSTART;TZID=Europe/Helsinki:20250921T080000
DTEND;TZID=Europe/Helsinki:20250921T170000
DTSTAMP:20250920T181045Z
URL:https://halkivahanmetsastysyhdistys.fi/tapahtumat/mayrakoirien-pm/
SUMMARY:Mäyräkoirien pm
DESCRIPTION:Mäyräkoirien pm ajokokeet alueella Punkalaidun - Vammalantien
  länsipuoli - Synkkänä. Oppaana T. Tiirikkala. Pyydetään koerauha.\n\
 nKytikseen voi mennä klo 17 jälkeen.
CATEGORIES:Ajokokeet - koerauha
END:VEVENT
BEGIN:VEVENT
UID:125@halkivahanmetsastysyhdistys.fi
DTSTART;TZID=Europe/Helsinki:20250927T090000
DTEND;TZID=Europe/Helsinki:20250927T150000
DTSTAMP:20250927T041342Z
URL:https://halkivahanmetsastysyhdistys.fi/tapahtumat/peurajahti-21/
SUMMARY:Peurajahti
DESCRIPTION:Peurajahti koirilla jäsenille. Kokoontuminen Ilvesmajalla klo 
 9.
CATEGORIES:Jahti
END:VEVENT
BEGIN:VEVENT
UID:123@halkivahanmetsastysyhdistys.fi
DTSTART;TZID=Europe/Helsinki:20250928T080000
DTEND;TZID=Europe/Helsinki:20250928T170000
DTSTAMP:20250920T180810Z
URL:https://halkivahanmetsastysyhdistys.fi/tapahtumat/dreeverien-ja-basset
 ien-deer-winner/
SUMMARY:Dreeverien ja bassetien deer winner
DESCRIPTION:Dreeverien ja bassetien deer winner ajokokeet. Alueena Punkalai
 dun - Vammalantien länsipuoli - Synkkälä. Oppaana P. Perkiö. Annetaan 
 koerauha.\n\nKytikseen voi mennä klo 17.
CATEGORIES:Ajokokeet - koerauha
END:VEVENT
BEGIN:VEVENT
UID:124@halkivahanmetsastysyhdistys.fi
DTSTART;TZID=Europe/Helsinki:20251004T090000
DTEND;TZID=Europe/Helsinki:20251004T150000
DTSTAMP:20250920T181433Z
URL:https://halkivahanmetsastysyhdistys.fi/tapahtumat/talkoot-6/
SUMMARY:Talkoot
DESCRIPTION:Kunnostetaan passipaikkoja ja raivataan risuja tornien edestä.
  Olisi hyvä ottaa omia vasaroita ja sahoja mukaan. Kokoontuminen Ilvesmaj
 alla klo 9.
END:VEVENT
BEGIN:VEVENT
UID:114@halkivahanmetsastysyhdistys.fi
DTSTART;TZID=Europe/Helsinki:20251011T070000
DTEND;TZID=Europe/Helsinki:20251011T150000
DTSTAMP:20250727T195727Z
URL:https://halkivahanmetsastysyhdistys.fi/tapahtumat/hirvijahti-19/
SUMMARY:Hirvijahti
DESCRIPTION:Yhteisjahdin aloitus. Kokoontuminen Ilvesmajalla klo 7.
CATEGORIES:Jahti
END:VEVENT
BEGIN:VEVENT
UID:115@halkivahanmetsastysyhdistys.fi
DTSTART;TZID=Europe/Helsinki:20251012T080000
DTEND;TZID=Europe/Helsinki:20251012T150000
DTSTAMP:20250727T200134Z
URL:https://halkivahanmetsastysyhdistys.fi/tapahtumat/hirvijahti-20/
SUMMARY:Hirvijahti
DESCRIPTION:Yhteisjahti. Kokoontuminen Ilvesmajalla klo 8.
CATEGORIES:Jahti
END:VEVENT
BEGIN:VEVENT
UID:116@halkivahanmetsastysyhdistys.fi
DTSTART;TZID=Europe/Helsinki:20251018T080000
DTEND;TZID=Europe/Helsinki:20251019T150000
DTSTAMP:20250727T200201Z
URL:https://halkivahanmetsastysyhdistys.fi/tapahtumat/hirvijahti-21/
SUMMARY:Hirvijahti
DESCRIPTION:Yhteisjahti. Kokoontuminen Ilvesmajalla klo 8.
CATEGORIES:Jahti
END:VEVENT
BEGIN:VEVENT
UID:117@halkivahanmetsastysyhdistys.fi
DTSTART;TZID=Europe/Helsinki:20251025T080000
DTEND;TZID=Europe/Helsinki:20251026T150000
DTSTAMP:20250727T200110Z
URL:https://halkivahanmetsastysyhdistys.fi/tapahtumat/hirvijahti-22/
SUMMARY:Hirvijahti
DESCRIPTION:Yhteisjahti. Kokoontuminen Ilvesmajalla klo 8.
CATEGORIES:Jahti
END:VEVENT
BEGIN:VEVENT
UID:126@halkivahanmetsastysyhdistys.fi
DTSTART;TZID=Europe/Helsinki:20251115T083000
DTEND;TZID=Europe/Helsinki:20251115T143000
DTSTAMP:20251114T051425Z
URL:https://halkivahanmetsastysyhdistys.fi/tapahtumat/peurajahti-22/
SUMMARY:Peurajahti
DESCRIPTION:Peurajahti koirilla jäsenille. Kokoontuminen Ilvesmajalla klo 
 8.30.
CATEGORIES:Jahti
END:VEVENT
BEGIN:VEVENT
UID:128@halkivahanmetsastysyhdistys.fi
DTSTART;TZID=Europe/Helsinki:20251122T080000
DTEND;TZID=Europe/Helsinki:20251122T150000
DTSTAMP:20251114T051909Z
URL:https://halkivahanmetsastysyhdistys.fi/tapahtumat/hirvijahti-23/
SUMMARY:Hirvijahti
DESCRIPTION:Yhteisjahti. Kokoontuminen Ilvesmajalla klo 8.
CATEGORIES:Jahti
END:VEVENT
BEGIN:VEVENT
UID:129@halkivahanmetsastysyhdistys.fi
DTSTART;TZID=Europe/Helsinki:20251123T080000
DTEND;TZID=Europe/Helsinki:20251123T150000
DTSTAMP:20251122T132345Z
URL:https://halkivahanmetsastysyhdistys.fi/tapahtumat/hirvijahti-24/
SUMMARY:Hirvijahti
DESCRIPTION:Yhteisjahti. Kokoontuminen Ilvesmajalla klo 8.
CATEGORIES:Jahti
END:VEVENT
BEGIN:VEVENT
UID:130@halkivahanmetsastysyhdistys.fi
DTSTART;TZID=Europe/Helsinki:20251129T080000
DTEND;TZID=Europe/Helsinki:20251129T150000
DTSTAMP:20251129T073758Z
URL:https://halkivahanmetsastysyhdistys.fi/tapahtumat/hirvijahti-25/
SUMMARY:Hirvijahti - peruttu
DESCRIPTION:Yhteisjahti. Kokoontuminen Ilvesmajalla klo 8.
CATEGORIES:Peruttu
END:VEVENT
BEGIN:VEVENT
UID:131@halkivahanmetsastysyhdistys.fi
DTSTART;TZID=Europe/Helsinki:20251206T083000
DTEND;TZID=Europe/Helsinki:20251206T143000
DTSTAMP:20251205T054955Z
URL:https://halkivahanmetsastysyhdistys.fi/tapahtumat/peurajahti-23/
SUMMARY:Peurajahti
DESCRIPTION:Peurajahti koirilla jäsenille. Kokoontuminen Ilvesmajalla klo 
 8.30.
CATEGORIES:Jahti
END:VEVENT
BEGIN:VEVENT
UID:134@halkivahanmetsastysyhdistys.fi
DTSTART;TZID=Europe/Helsinki:20251212T080000
DTEND;TZID=Europe/Helsinki:20251212T150000
DTSTAMP:20251210T194633Z
URL:https://halkivahanmetsastysyhdistys.fi/tapahtumat/dreeveri-ajokoe/
SUMMARY:Dreeveri ajokoe
DESCRIPTION:Ajokoe dreeverille. Maastona Kaapelinmaa  - Monna. Passiin voi
  mennä klo 15 jälkeen.\n\nAnnetaan koerauha.
CATEGORIES:Ajokokeet - koerauha
END:VEVENT
BEGIN:VEVENT
UID:133@halkivahanmetsastysyhdistys.fi
DTSTART;TZID=Europe/Helsinki:20251213T083000
DTEND;TZID=Europe/Helsinki:20251213T143000
DTSTAMP:20251210T194048Z
URL:https://halkivahanmetsastysyhdistys.fi/tapahtumat/peurajahti-24/
SUMMARY:Peurajahti
DESCRIPTION:Peurajahti koirilla jäsenille. Kokoontuminen Ilvesmajalla klo 
 8.30.
CATEGORIES:Jahti
END:VEVENT
BEGIN:VEVENT
UID:137@halkivahanmetsastysyhdistys.fi
DTSTART;TZID=Europe/Helsinki:20251220T083000
DTEND;TZID=Europe/Helsinki:20251220T143000
DTSTAMP:20251217T174619Z
URL:https://halkivahanmetsastysyhdistys.fi/tapahtumat/peurajahti-25/
SUMMARY:Peurajahti
DESCRIPTION:Peurajahti koirilla jäsenille. Kokoontuminen Ilvesmajalla klo 
 8.30.
CATEGORIES:Jahti
END:VEVENT
BEGIN:VEVENT
UID:120@halkivahanmetsastysyhdistys.fi
DTSTART;TZID=Europe/Helsinki;VALUE=DATE:20251224
DTEND;TZID=Europe/Helsinki;VALUE=DATE:20251225
DTSTAMP:20251210T194845Z
URL:https://halkivahanmetsastysyhdistys.fi/tapahtumat/joulurauha-3/
SUMMARY:Joulurauha
DESCRIPTION:Kesäkokouksen päättämä joulurauha metsän eläimille 24.-2
 6.12.
CATEGORIES:Ei metsästystä
END:VEVENT
BEGIN:VEVENT
UID:135@halkivahanmetsastysyhdistys.fi
DTSTART;TZID=Europe/Helsinki;VALUE=DATE:20251225
DTEND;TZID=Europe/Helsinki;VALUE=DATE:20251226
DTSTAMP:20251210T194907Z
URL:https://halkivahanmetsastysyhdistys.fi/tapahtumat/joulurauha-4/
SUMMARY:Joulurauha
DESCRIPTION:Kesäkokouksen päättämä joulurauha metsän eläimille 24.-2
 6.12.
CATEGORIES:Ei metsästystä
END:VEVENT
BEGIN:VEVENT
UID:136@halkivahanmetsastysyhdistys.fi
DTSTART;TZID=Europe/Helsinki;VALUE=DATE:20251226
DTEND;TZID=Europe/Helsinki;VALUE=DATE:20251227
DTSTAMP:20251210T194932Z
URL:https://halkivahanmetsastysyhdistys.fi/tapahtumat/joulurauha-5/
SUMMARY:Joulurauha
DESCRIPTION:Kesäkokouksen päättämä joulurauha metsän eläimille 24.-2
 6.12.
CATEGORIES:Ei metsästystä
END:VEVENT
BEGIN:VEVENT
UID:138@halkivahanmetsastysyhdistys.fi
DTSTART;TZID=Europe/Helsinki:20251227T080000
DTEND;TZID=Europe/Helsinki:20251227T150000
DTSTAMP:20251217T175722Z
URL:https://halkivahanmetsastysyhdistys.fi/tapahtumat/hirvijahti-27/
SUMMARY:Hirvijahti
DESCRIPTION:Hirvijahti. Kokoontuminen Ilvesmajalla klo 8.
CATEGORIES:Jahti
END:VEVENT
BEGIN:VEVENT
UID:139@halkivahanmetsastysyhdistys.fi
DTSTART;TZID=Europe/Helsinki:20251227T153000
DTEND;TZID=Europe/Helsinki:20251227T173000
DTSTAMP:20251217T175332Z
URL:https://halkivahanmetsastysyhdistys.fi/tapahtumat/ylimaarainen-kokous/
SUMMARY:Ylimääräinen kokous
DESCRIPTION:Ylimääräinen kokous Ilvesmajalla klo 15.30 alkaen. Asialista
 lla metsästyksen johtajat\, metsästyssäännöt sekä metsästysalueet.\
 n\nTarkempi asialista on jaettu WhatsAppilla.
CATEGORIES:Kokous
END:VEVENT
BEGIN:VEVENT
UID:140@halkivahanmetsastysyhdistys.fi
DTSTART;TZID=Europe/Helsinki:20260103T080000
DTEND;TZID=Europe/Helsinki:20260103T150000
DTSTAMP:20251228T175913Z
URL:https://halkivahanmetsastysyhdistys.fi/tapahtumat/hirvijahti-26/
SUMMARY:Hirvijahti
DESCRIPTION:Hirvijahti. Kokoontuminen Ilvesmajalla klo 8.
CATEGORIES:Jahti
END:VEVENT
BEGIN:VEVENT
UID:141@halkivahanmetsastysyhdistys.fi
DTSTART;TZID=Europe/Helsinki:20260301T000000
DTEND;TZID=Europe/Helsinki:20260301T000000
DTSTAMP:20260228T235118Z
URL:https://halkivahanmetsastysyhdistys.fi/tapahtumat/riistanhoitokortin-p
 alautus/
SUMMARY:Riistanhoitokortin palautus
DESCRIPTION:Palauta täytetty riistanhoitokortti sihteerille seuran postila
 atikkoon tai seuran sähköpostiin 1.3.2026 mennessä.
CATEGORIES:Jäsentapahtuma
END:VEVENT
BEGIN:VEVENT
UID:142@halkivahanmetsastysyhdistys.fi
DTSTART;TZID=Europe/Helsinki:20260322T150000
DTEND;TZID=Europe/Helsinki:20260322T170000
DTSTAMP:20260302T172952Z
URL:https://halkivahanmetsastysyhdistys.fi/tapahtumat/talvikokous/
SUMMARY:Talvikokous
DESCRIPTION:Talvikokous Ilvesmajalla klo 15 alkaen.
CATEGORIES:Kokous
END:VEVENT
BEGIN:VEVENT
UID:143@halkivahanmetsastysyhdistys.fi
DTSTART;TZID=Europe/Helsinki:20260509T100000
DTEND;TZID=Europe/Helsinki:20260509T150000
DTSTAMP:20260322T180238Z
URL:https://halkivahanmetsastysyhdistys.fi/tapahtumat/talkoot/
SUMMARY:Talkoot
DESCRIPTION:Pihatalkoot Ilvesmajalla klo 10 alkaen.
CATEGORIES:Talkoot
END:VEVENT
BEGIN:VEVENT
UID:144@halkivahanmetsastysyhdistys.fi
DTSTART;TZID=Europe/Helsinki:20260704T100000
DTEND;TZID=Europe/Helsinki:20260704T150000
DTSTAMP:20260322T183210Z
URL:https://halkivahanmetsastysyhdistys.fi/tapahtumat/talkoot-2/
SUMMARY:Talkoot
DESCRIPTION:Peijaisten valmistelutalkoot klo 10 alkaen Ilvesmajalla.
CATEGORIES:Talkoot
END:VEVENT
BEGIN:VEVENT
UID:145@halkivahanmetsastysyhdistys.fi
DTSTART;TZID=Europe/Helsinki:20260710T170000
DTEND;TZID=Europe/Helsinki:20260710T210000
DTSTAMP:20260322T185120Z
URL:https://halkivahanmetsastysyhdistys.fi/tapahtumat/talkoot-3/
SUMMARY:Talkoot
DESCRIPTION:Peijaisten valmistelutalkoot klo 17 alkaen Ilvesmajalla.
CATEGORIES:Talkoot
END:VEVENT
BEGIN:VEVENT
UID:146@halkivahanmetsastysyhdistys.fi
DTSTART;TZID=Europe/Helsinki:20260711T110000
DTEND;TZID=Europe/Helsinki:20260711T170000
DTSTAMP:20260322T183828Z
URL:https://halkivahanmetsastysyhdistys.fi/tapahtumat/talkoot-8/
SUMMARY:Talkoot
DESCRIPTION:Peijaisten valmistelutalkoot klo 11 alkaen Ilvesmajalla.
CATEGORIES:Talkoot
END:VEVENT
BEGIN:VEVENT
UID:147@halkivahanmetsastysyhdistys.fi
DTSTART;TZID=Europe/Helsinki:20260711T170000
DTEND;TZID=Europe/Helsinki:20260711T234500
DTSTAMP:20260322T184310Z
URL:https://halkivahanmetsastysyhdistys.fi/tapahtumat/peijaiset-seura-70-v
 uotta/
SUMMARY:Peijaiset\, seura 70 vuotta
DESCRIPTION:Seuran 70-vuotisjuhlapeijaiset Ilvesmajalla klo 17 alkaen. Maan
 omistajat\, kyläläiset sekä seuran jäsenet tervetuloa.
CATEGORIES:Yleisötapahtuma
END:VEVENT
BEGIN:VEVENT
UID:148@halkivahanmetsastysyhdistys.fi
DTSTART;TZID=Europe/Helsinki:20260712T100000
DTEND;TZID=Europe/Helsinki:20260712T150000
DTSTAMP:20260322T184503Z
URL:https://halkivahanmetsastysyhdistys.fi/tapahtumat/talkoot-9/
SUMMARY:Talkoot
DESCRIPTION:Peijaisten siivoustalkoot Ilvesmajalla klo 10 alkaen.
CATEGORIES:Talkoot
END:VEVENT
BEGIN:VEVENT
UID:149@halkivahanmetsastysyhdistys.fi
DTSTART;TZID=Europe/Helsinki:20260712T150000
DTEND;TZID=Europe/Helsinki:20260712T170000
DTSTAMP:20260322T184654Z
URL:https://halkivahanmetsastysyhdistys.fi/tapahtumat/kesakokous/
SUMMARY:Kesäkokous
DESCRIPTION:Kesäkokous Ilvesmajalla klo 15 alkaen. Kesäkokousasiat ja ilm
 oittautuminen hirvi- ja peurajahteihin.
CATEGORIES:Kokous
END:VEVENT
BEGIN:VEVENT
UID:150@halkivahanmetsastysyhdistys.fi
DTSTART;TZID=Europe/Helsinki:20260830T150000
DTEND;TZID=Europe/Helsinki:20260830T170000
DTSTAMP:20260322T184846Z
URL:https://halkivahanmetsastysyhdistys.fi/tapahtumat/peura-ja-hirvipalave
 ri/
SUMMARY:Peura- ja hirvipalaveri
DESCRIPTION:Peura- ja hirvipalaveri Ilvesmajalla klo 15 alkaen jahtiin osal
 listuville. Lupien ja papereiden tarkastus.
CATEGORIES:Kokous
END:VEVENT
BEGIN:VEVENT
UID:151@halkivahanmetsastysyhdistys.fi
DTSTART;TZID=Europe/Helsinki;VALUE=DATE:20261224
DTEND;TZID=Europe/Helsinki;VALUE=DATE:20261225
DTSTAMP:20260322T185324Z
URL:https://halkivahanmetsastysyhdistys.fi/tapahtumat/joulurauha/
SUMMARY:Joulurauha
DESCRIPTION:Kesäkokouksen päättämä joulurauha metsän eläimille 24.-2
 6.12.
CATEGORIES:Ei metsästystä
END:VEVENT
BEGIN:VEVENT
UID:152@halkivahanmetsastysyhdistys.fi
DTSTART;TZID=Europe/Helsinki;VALUE=DATE:20261225
DTEND;TZID=Europe/Helsinki;VALUE=DATE:20261226
DTSTAMP:20260322T185403Z
URL:https://halkivahanmetsastysyhdistys.fi/tapahtumat/joulurauha-2/
SUMMARY:Joulurauha
DESCRIPTION:Kesäkokouksen päättämä joulurauha metsän eläimille 24.-2
 6.12.
CATEGORIES:Ei metsästystä
END:VEVENT
BEGIN:VEVENT
UID:153@halkivahanmetsastysyhdistys.fi
DTSTART;TZID=Europe/Helsinki;VALUE=DATE:20261226
DTEND;TZID=Europe/Helsinki;VALUE=DATE:20261227
DTSTAMP:20260322T185529Z
URL:https://halkivahanmetsastysyhdistys.fi/tapahtumat/joulurauha-6/
SUMMARY:Joulurauha
DESCRIPTION:Kesäkokouksen päättämä joulurauha metsän eläimille 24.-2
 6.12.
CATEGORIES:Ei metsästystä
END:VEVENT
BEGIN:VEVENT
UID:154@halkivahanmetsastysyhdistys.fi
DTSTART;TZID=Europe/Helsinki:20270301T000000
DTEND;TZID=Europe/Helsinki:20270301T000000
DTSTAMP:20260322T185710Z
URL:https://halkivahanmetsastysyhdistys.fi/tapahtumat/riistanhoitokortin-p
 alautus-2/
SUMMARY:Riistanhoitokortin palautus
DESCRIPTION:Palauta täytetty riistanhoitokortti sihteerille seuran postila
 atikkoon tai seuran sähköpostiin 1.3.2027 mennessä.
CATEGORIES:Jäsentapahtuma
END:VEVENT
BEGIN:VTIMEZONE
TZID:Europe/Helsinki
X-LIC-LOCATION:Europe/Helsinki
BEGIN:DAYLIGHT
DTSTART:20250330T040000
TZOFFSETFROM:+0200
TZOFFSETTO:+0300
TZNAME:EEST
END:DAYLIGHT
BEGIN:STANDARD
DTSTART:20251026T030000
TZOFFSETFROM:+0300
TZOFFSETTO:+0200
TZNAME:EET
END:STANDARD
BEGIN:DAYLIGHT
DTSTART:20260329T040000
TZOFFSETFROM:+0200
TZOFFSETTO:+0300
TZNAME:EEST
END:DAYLIGHT
BEGIN:STANDARD
DTSTART:20261025T030000
TZOFFSETFROM:+0300
TZOFFSETTO:+0200
TZNAME:EET
END:STANDARD
END:VTIMEZONE
END:VCALENDAR