BEGIN:VCALENDAR
VERSION:2.0
PRODID:-//wp-events-plugin.com//7.2.3.1//EN
BEGIN:VEVENT
UID:113@halkivahanmetsastysyhdistys.fi
DTSTART;TZID=Europe/Helsinki:20250817T120000
DTEND;TZID=Europe/Helsinki:20250817T160000
DTSTAMP:20250718T171244Z
URL:https://halkivahanmetsastysyhdistys.fi/tapahtumat/ampumakilpailut-3/
SUMMARY:Ampumakilpailut
DESCRIPTION:Jäsentenvälinen ampumakilpailu Krääkkiön ampumaradalla 17.
 8. Klo 12 alkaen.\n\nAmmutaan vain kiväärillä 4+6\, 75 m.\n\nOsallistum
 ismaksu 10 €.
CATEGORIES:Ammunta
END:VEVENT
BEGIN:VTIMEZONE
TZID:Europe/Helsinki
X-LIC-LOCATION:Europe/Helsinki
BEGIN:DAYLIGHT
DTSTART:20250330T040000
TZOFFSETFROM:+0200
TZOFFSETTO:+0300
TZNAME:EEST
END:DAYLIGHT
END:VTIMEZONE
END:VCALENDAR