BEGIN:VCALENDAR
VERSION:2.0
PRODID:-//wp-events-plugin.com//7.2.3.1//EN
BEGIN:VEVENT
UID:124@halkivahanmetsastysyhdistys.fi
DTSTART;TZID=Europe/Helsinki:20251004T090000
DTEND;TZID=Europe/Helsinki:20251004T150000
DTSTAMP:20250920T181433Z
URL:https://halkivahanmetsastysyhdistys.fi/tapahtumat/talkoot-6/
SUMMARY:Talkoot
DESCRIPTION:Kunnostetaan passipaikkoja ja raivataan risuja tornien edestä.
  Olisi hyvä ottaa omia vasaroita ja sahoja mukaan. Kokoontuminen Ilvesmaj
 alla klo 9.
END:VEVENT
BEGIN:VTIMEZONE
TZID:Europe/Helsinki
X-LIC-LOCATION:Europe/Helsinki
BEGIN:DAYLIGHT
DTSTART:20250330T040000
TZOFFSETFROM:+0200
TZOFFSETTO:+0300
TZNAME:EEST
END:DAYLIGHT
END:VTIMEZONE
END:VCALENDAR